Package: karyoploteR Version: 1.33.0 Command: /home/rapidbuild/bbs-3.21-bioc-rapid/R/bin/R CMD INSTALL karyoploteR StartedAt: 2025-02-10 06:28:49 -0500 (Mon, 10 Feb 2025) EndedAt: 2025-02-10 06:29:33 -0500 (Mon, 10 Feb 2025) EllapsedTime: 43.8 seconds RetCode: 0 Status: OK