Package: karyoploteR Version: 1.33.0 Command: /home/rapidbuild/bbs-3.21-bioc-rapid/R/bin/R CMD build --keep-empty-dirs --no-resave-data karyoploteR StartedAt: 2025-02-10 07:10:08 -0500 (Mon, 10 Feb 2025) EndedAt: 2025-02-10 07:11:15 -0500 (Mon, 10 Feb 2025) EllapsedTime: 66.3 seconds RetCode: 1 Status: ERROR PackageFile: None PackageFileSize: NA