Package: interactiveDisplay Version: 1.45.1 Command: /home/rapidbuild/bbs-3.21-bioc-rapid/R/bin/R CMD INSTALL interactiveDisplay StartedAt: 2025-02-21 12:23:32 -0500 (Fri, 21 Feb 2025) EndedAt: 2025-02-21 12:23:50 -0500 (Fri, 21 Feb 2025) EllapsedTime: 18.4 seconds RetCode: 0 Status: OK