Package: hpar Version: 1.49.0 Command: /home/rapidbuild/bbs-3.21-bioc-rapid/R/bin/R CMD INSTALL hpar StartedAt: 2025-02-11 06:19:54 -0500 (Tue, 11 Feb 2025) EndedAt: 2025-02-11 06:20:05 -0500 (Tue, 11 Feb 2025) EllapsedTime: 11.2 seconds RetCode: 0 Status: OK