Package: h5mread Version: 0.99.4 Command: /home/rapidbuild/bbs-3.21-bioc-rapid/R/bin/R CMD INSTALL h5mread StartedAt: 2025-02-20 12:12:55 -0500 (Thu, 20 Feb 2025) EndedAt: 2025-02-20 12:13:12 -0500 (Thu, 20 Feb 2025) EllapsedTime: 17.4 seconds RetCode: 0 Status: OK