Package: graph Version: 1.85.1 Command: /home/rapidbuild/bbs-3.21-bioc-rapid/R/bin/R CMD INSTALL graph StartedAt: 2025-02-18 06:10:58 -0500 (Tue, 18 Feb 2025) EndedAt: 2025-02-18 06:11:12 -0500 (Tue, 18 Feb 2025) EllapsedTime: 13.5 seconds RetCode: 0 Status: OK