Package: glmGamPoi Version: 1.19.4 Maintainer: Constantin Ahlmann-Eltze MaintainerEmail: artjom31415 at googlemail.com git_url: https://git.bioconductor.org/packages/glmGamPoi git_branch: devel git_last_commit: 90b30f7 git_last_commit_date: 2025-02-11 11:57:57 -0500 (Tue, 11 Feb 2025)