Package: ggbio Version: 1.55.0 Command: /home/rapidbuild/bbs-3.21-bioc-rapid/R/bin/R CMD INSTALL ggbio StartedAt: 2025-02-18 06:30:02 -0500 (Tue, 18 Feb 2025) EndedAt: 2025-02-18 06:30:55 -0500 (Tue, 18 Feb 2025) EllapsedTime: 53.9 seconds RetCode: 0 Status: OK