Package: ggbio Version: 1.55.0 Command: /home/rapidbuild/bbs-3.21-bioc-rapid/R/bin/R CMD build --keep-empty-dirs --no-resave-data ggbio StartedAt: 2025-02-18 07:03:07 -0500 (Tue, 18 Feb 2025) EndedAt: 2025-02-18 07:07:21 -0500 (Tue, 18 Feb 2025) EllapsedTime: 254.3 seconds RetCode: 0 Status: OK PackageFile: ggbio_1.55.0.tar.gz PackageFileSize: 3.096 MiB