Package: gage Version: 2.57.0 Command: /home/rapidbuild/bbs-3.21-bioc-rapid/R/bin/R CMD INSTALL gage StartedAt: 2025-02-20 12:21:24 -0500 (Thu, 20 Feb 2025) EndedAt: 2025-02-20 12:21:35 -0500 (Thu, 20 Feb 2025) EllapsedTime: 11.2 seconds RetCode: 0 Status: OK