Package: flowViz Version: 1.71.0 Command: /home/rapidbuild/bbs-3.21-bioc-rapid/R/bin/R CMD build --keep-empty-dirs --no-resave-data flowViz StartedAt: 2025-02-15 12:49:30 -0500 (Sat, 15 Feb 2025) EndedAt: 2025-02-15 12:50:22 -0500 (Sat, 15 Feb 2025) EllapsedTime: 52.3 seconds RetCode: 0 Status: OK PackageFile: flowViz_1.71.0.tar.gz PackageFileSize: 989.4 KiB