Package: flowCore Version: 2.19.0 Command: /home/rapidbuild/bbs-3.21-bioc-rapid/R/bin/R CMD INSTALL flowCore StartedAt: 2025-02-21 12:11:03 -0500 (Fri, 21 Feb 2025) EndedAt: 2025-02-21 12:11:37 -0500 (Fri, 21 Feb 2025) EllapsedTime: 34.3 seconds RetCode: 0 Status: OK