Package: flowCore Version: 2.19.0 Command: /home/rapidbuild/bbs-3.21-bioc-rapid/R/bin/R CMD check --install=check:flowCore.install-out.txt --library=/home/rapidbuild/bbs-3.21-bioc-rapid/R/site-library --timings flowCore_2.19.0.tar.gz StartedAt: 2025-02-21 14:14:59 -0500 (Fri, 21 Feb 2025) EndedAt: 2025-02-21 14:17:03 -0500 (Fri, 21 Feb 2025) EllapsedTime: 123.3 seconds RetCode: 0 Status: WARNINGS CheckDir: flowCore.Rcheck Warnings: 3