Package: flowCore Version: 2.19.0 Command: /home/rapidbuild/bbs-3.21-bioc-rapid/R/bin/R CMD build --keep-empty-dirs --no-resave-data flowCore StartedAt: 2025-02-21 12:48:24 -0500 (Fri, 21 Feb 2025) EndedAt: 2025-02-21 12:49:21 -0500 (Fri, 21 Feb 2025) EllapsedTime: 57.3 seconds RetCode: 0 Status: OK PackageFile: flowCore_2.19.0.tar.gz PackageFileSize: 7.46 MiB