Package: edgeR Version: 4.5.2 Command: /home/rapidbuild/bbs-3.21-bioc-rapid/R/bin/R CMD INSTALL edgeR StartedAt: 2025-02-21 12:08:01 -0500 (Fri, 21 Feb 2025) EndedAt: 2025-02-21 12:08:10 -0500 (Fri, 21 Feb 2025) EllapsedTime: 9.0 seconds RetCode: 0 Status: OK