Package: densvis Version: 1.17.0 Command: /home/rapidbuild/bbs-3.21-bioc-rapid/R/bin/R CMD build --keep-empty-dirs --no-resave-data densvis StartedAt: 2025-02-13 12:40:14 -0500 (Thu, 13 Feb 2025) EndedAt: 2025-02-13 12:41:25 -0500 (Thu, 13 Feb 2025) EllapsedTime: 71.3 seconds RetCode: 0 Status: OK PackageFile: densvis_1.17.0.tar.gz PackageFileSize: 1.677 MiB