Package: biocViews Version: 1.75.0 Command: /home/rapidbuild/bbs-3.21-bioc-rapid/R/bin/R CMD INSTALL biocViews StartedAt: 2025-02-11 06:11:44 -0500 (Tue, 11 Feb 2025) EndedAt: 2025-02-11 06:11:51 -0500 (Tue, 11 Feb 2025) EllapsedTime: 7.2 seconds RetCode: 0 Status: OK