Package: biocViews Version: 1.75.0 Command: /home/rapidbuild/bbs-3.21-bioc-rapid/R/bin/R CMD check --install=check:biocViews.install-out.txt --library=/home/rapidbuild/bbs-3.21-bioc-rapid/R/site-library --timings biocViews_1.75.0.tar.gz StartedAt: 2025-02-11 08:10:38 -0500 (Tue, 11 Feb 2025) EndedAt: 2025-02-11 08:11:21 -0500 (Tue, 11 Feb 2025) EllapsedTime: 43.3 seconds RetCode: 0 Status: OK CheckDir: biocViews.Rcheck Warnings: 0