Package: biocViews Version: 1.75.0 Command: /home/rapidbuild/bbs-3.21-bioc-rapid/R/bin/R CMD build --keep-empty-dirs --no-resave-data biocViews StartedAt: 2025-02-13 12:34:31 -0500 (Thu, 13 Feb 2025) EndedAt: 2025-02-13 12:34:43 -0500 (Thu, 13 Feb 2025) EllapsedTime: 12.3 seconds RetCode: 0 Status: OK PackageFile: biocViews_1.75.0.tar.gz PackageFileSize: 506.9 KiB