Package: beachmat Version: 2.23.6 Command: /home/rapidbuild/bbs-3.21-bioc-rapid/R/bin/R CMD build --keep-empty-dirs --no-resave-data beachmat StartedAt: 2025-02-13 12:31:41 -0500 (Thu, 13 Feb 2025) EndedAt: 2025-02-13 12:35:47 -0500 (Thu, 13 Feb 2025) EllapsedTime: 245.8 seconds RetCode: 0 Status: OK PackageFile: beachmat_2.23.6.tar.gz PackageFileSize: 368.6 KiB