Package: batchelor Version: 1.23.0 Command: /home/rapidbuild/bbs-3.21-bioc-rapid/R/bin/R CMD INSTALL batchelor StartedAt: 2025-02-15 12:20:49 -0500 (Sat, 15 Feb 2025) EndedAt: 2025-02-15 12:21:26 -0500 (Sat, 15 Feb 2025) EllapsedTime: 36.6 seconds RetCode: 0 Status: OK