Package: batchelor Version: 1.23.0 Command: /home/rapidbuild/bbs-3.21-bioc-rapid/R/bin/R CMD build --keep-empty-dirs --no-resave-data batchelor StartedAt: 2025-02-15 12:31:09 -0500 (Sat, 15 Feb 2025) EndedAt: 2025-02-15 12:34:02 -0500 (Sat, 15 Feb 2025) EllapsedTime: 172.7 seconds RetCode: 0 Status: OK PackageFile: batchelor_1.23.0.tar.gz PackageFileSize: 1.969 MiB