Package: bamsignals Version: 1.39.0 Command: /home/rapidbuild/bbs-3.21-bioc-rapid/R/bin/R CMD INSTALL bamsignals StartedAt: 2025-02-21 12:16:41 -0500 (Fri, 21 Feb 2025) EndedAt: 2025-02-21 12:16:59 -0500 (Fri, 21 Feb 2025) EllapsedTime: 17.6 seconds RetCode: 0 Status: OK