Package: assorthead Version: 1.1.14 Command: /home/rapidbuild/bbs-3.21-bioc-rapid/R/bin/R CMD INSTALL assorthead StartedAt: 2025-02-14 12:04:55 -0500 (Fri, 14 Feb 2025) EndedAt: 2025-02-14 12:04:56 -0500 (Fri, 14 Feb 2025) EllapsedTime: 1.6 seconds RetCode: 0 Status: OK