Package: assorthead Version: 1.1.14 Command: /home/rapidbuild/bbs-3.21-bioc-rapid/R/bin/R CMD check --install=check:assorthead.install-out.txt --library=/home/rapidbuild/bbs-3.21-bioc-rapid/R/site-library --timings assorthead_1.1.14.tar.gz StartedAt: 2025-02-14 13:38:44 -0500 (Fri, 14 Feb 2025) EndedAt: 2025-02-14 13:38:55 -0500 (Fri, 14 Feb 2025) EllapsedTime: 11.0 seconds RetCode: 0 Status: OK CheckDir: assorthead.Rcheck Warnings: 0