Package: assorthead Version: 1.1.14 Command: /home/rapidbuild/bbs-3.21-bioc-rapid/R/bin/R CMD build --keep-empty-dirs --no-resave-data assorthead StartedAt: 2025-02-14 12:28:45 -0500 (Fri, 14 Feb 2025) EndedAt: 2025-02-14 12:28:50 -0500 (Fri, 14 Feb 2025) EllapsedTime: 5.0 seconds RetCode: 0 Status: OK PackageFile: assorthead_1.1.14.tar.gz PackageFileSize: 1.738 MiB