Package: annotate Version: 1.85.0 Command: /home/rapidbuild/bbs-3.21-bioc-rapid/R/bin/R CMD INSTALL annotate StartedAt: 2025-02-13 12:19:16 -0500 (Thu, 13 Feb 2025) EndedAt: 2025-02-13 12:19:29 -0500 (Thu, 13 Feb 2025) EllapsedTime: 13.2 seconds RetCode: 0 Status: OK