Package: alabaster.sce Version: 1.7.0 Command: /home/rapidbuild/bbs-3.21-bioc-rapid/R/bin/R CMD INSTALL alabaster.sce StartedAt: 2025-02-13 12:19:21 -0500 (Thu, 13 Feb 2025) EndedAt: 2025-02-13 12:19:45 -0500 (Thu, 13 Feb 2025) EllapsedTime: 23.8 seconds RetCode: 0 Status: OK