Package: alabaster.base Version: 1.7.6 Command: /home/rapidbuild/bbs-3.21-bioc-rapid/R/bin/R CMD INSTALL alabaster.base StartedAt: 2025-02-10 06:13:48 -0500 (Mon, 10 Feb 2025) EndedAt: 2025-02-10 06:14:58 -0500 (Mon, 10 Feb 2025) EllapsedTime: 69.3 seconds RetCode: 0 Status: OK