Package: affy Version: 1.85.1 Command: /home/rapidbuild/bbs-3.21-bioc-rapid/R/bin/R CMD build --keep-empty-dirs --no-resave-data affy StartedAt: 2025-02-10 06:31:03 -0500 (Mon, 10 Feb 2025) EndedAt: 2025-02-10 06:31:46 -0500 (Mon, 10 Feb 2025) EllapsedTime: 42.6 seconds RetCode: 0 Status: OK PackageFile: affy_1.85.1.tar.gz PackageFileSize: 1.684 MiB