Package: XVector Version: 0.47.2 Command: /home/rapidbuild/bbs-3.21-bioc-rapid/R/bin/R CMD INSTALL XVector StartedAt: 2025-02-15 12:11:59 -0500 (Sat, 15 Feb 2025) EndedAt: 2025-02-15 12:12:11 -0500 (Sat, 15 Feb 2025) EllapsedTime: 11.8 seconds RetCode: 0 Status: OK