Package: VariantAnnotation Version: 1.53.1 Command: /home/rapidbuild/bbs-3.21-bioc-rapid/R/bin/R CMD INSTALL VariantAnnotation StartedAt: 2025-02-14 12:22:56 -0500 (Fri, 14 Feb 2025) EndedAt: 2025-02-14 12:23:51 -0500 (Fri, 14 Feb 2025) EllapsedTime: 55.5 seconds RetCode: 0 Status: OK