Package: VariantAnnotation Version: 1.53.1 Command: /home/rapidbuild/bbs-3.21-bioc-rapid/R/bin/R CMD check --install=check:VariantAnnotation.install-out.txt --library=/home/rapidbuild/bbs-3.21-bioc-rapid/R/site-library --timings VariantAnnotation_1.53.1.tar.gz StartedAt: 2025-02-14 15:12:04 -0500 (Fri, 14 Feb 2025) EndedAt: 2025-02-14 15:19:56 -0500 (Fri, 14 Feb 2025) EllapsedTime: 471.5 seconds RetCode: 0 Status: WARNINGS CheckDir: VariantAnnotation.Rcheck Warnings: 2