Package: VariantAnnotation Version: 1.53.1 Command: /home/rapidbuild/bbs-3.21-bioc-rapid/R/bin/R CMD build --keep-empty-dirs --no-resave-data VariantAnnotation StartedAt: 2025-02-14 13:28:12 -0500 (Fri, 14 Feb 2025) EndedAt: 2025-02-14 13:30:18 -0500 (Fri, 14 Feb 2025) EllapsedTime: 125.2 seconds RetCode: 0 Status: OK PackageFile: VariantAnnotation_1.53.1.tar.gz PackageFileSize: 2.045 MiB