Package: Spectra Version: 1.17.6 Command: /home/rapidbuild/bbs-3.21-bioc-rapid/R/bin/R CMD check --install=check:Spectra.install-out.txt --library=/home/rapidbuild/bbs-3.21-bioc-rapid/R/site-library --timings Spectra_1.17.6.tar.gz StartedAt: 2025-02-21 15:10:53 -0500 (Fri, 21 Feb 2025) EndedAt: 2025-02-21 15:16:47 -0500 (Fri, 21 Feb 2025) EllapsedTime: 353.9 seconds RetCode: 0 Status: OK CheckDir: Spectra.Rcheck Warnings: 0