Package: Spectra Version: 1.17.6 Command: /home/rapidbuild/bbs-3.21-bioc-rapid/R/bin/R CMD build --keep-empty-dirs --no-resave-data Spectra StartedAt: 2025-02-21 13:30:04 -0500 (Fri, 21 Feb 2025) EndedAt: 2025-02-21 13:30:45 -0500 (Fri, 21 Feb 2025) EllapsedTime: 41.3 seconds RetCode: 0 Status: OK PackageFile: Spectra_1.17.6.tar.gz PackageFileSize: 1.799 MiB