Package: SpatialExperiment Version: 1.17.0 Command: /home/rapidbuild/bbs-3.21-bioc-rapid/R/bin/R CMD build --keep-empty-dirs --no-resave-data SpatialExperiment StartedAt: 2025-02-14 13:25:03 -0500 (Fri, 14 Feb 2025) EndedAt: 2025-02-14 13:25:50 -0500 (Fri, 14 Feb 2025) EllapsedTime: 46.6 seconds RetCode: 0 Status: OK PackageFile: SpatialExperiment_1.17.0.tar.gz PackageFileSize: 5.156 MiB