Package: SingleR Version: 2.9.6 Command: /home/rapidbuild/bbs-3.21-bioc-rapid/R/bin/R CMD check --install=check:SingleR.install-out.txt --library=/home/rapidbuild/bbs-3.21-bioc-rapid/R/site-library --timings SingleR_2.9.6.tar.gz StartedAt: 2025-02-18 09:45:30 -0500 (Tue, 18 Feb 2025) EndedAt: 2025-02-18 09:49:27 -0500 (Tue, 18 Feb 2025) EllapsedTime: 236.9 seconds RetCode: 0 Status: OK CheckDir: SingleR.Rcheck Warnings: 0