Package: SingleR Version: 2.9.6 Command: /home/rapidbuild/bbs-3.21-bioc-rapid/R/bin/R CMD build --keep-empty-dirs --no-resave-data SingleR StartedAt: 2025-02-18 07:43:38 -0500 (Tue, 18 Feb 2025) EndedAt: 2025-02-18 07:45:22 -0500 (Tue, 18 Feb 2025) EllapsedTime: 104.0 seconds RetCode: 0 Status: OK PackageFile: SingleR_2.9.6.tar.gz PackageFileSize: 675.2 KiB