Package: SingleCellExperiment Version: 1.29.1 Command: /home/rapidbuild/bbs-3.21-bioc-rapid/R/bin/R CMD check --install=check:SingleCellExperiment.install-out.txt --library=/home/rapidbuild/bbs-3.21-bioc-rapid/R/site-library --timings SingleCellExperiment_1.29.1.tar.gz StartedAt: 2025-02-14 15:01:27 -0500 (Fri, 14 Feb 2025) EndedAt: 2025-02-14 15:04:54 -0500 (Fri, 14 Feb 2025) EllapsedTime: 207.4 seconds RetCode: 0 Status: OK CheckDir: SingleCellExperiment.Rcheck Warnings: 0