Package: ShortRead Version: 1.65.0 Command: /home/rapidbuild/bbs-3.21-bioc-rapid/R/bin/R CMD INSTALL ShortRead StartedAt: 2025-02-15 12:22:51 -0500 (Sat, 15 Feb 2025) EndedAt: 2025-02-15 12:23:31 -0500 (Sat, 15 Feb 2025) EllapsedTime: 40.8 seconds RetCode: 0 Status: OK