Package: ShortRead Version: 1.65.0 Command: /home/rapidbuild/bbs-3.21-bioc-rapid/R/bin/R CMD check --install=check:ShortRead.install-out.txt --library=/home/rapidbuild/bbs-3.21-bioc-rapid/R/site-library --timings ShortRead_1.65.0.tar.gz StartedAt: 2025-02-15 15:12:22 -0500 (Sat, 15 Feb 2025) EndedAt: 2025-02-15 15:15:59 -0500 (Sat, 15 Feb 2025) EllapsedTime: 217.0 seconds RetCode: 0 Status: WARNINGS CheckDir: ShortRead.Rcheck Warnings: 2