Package: S4Arrays Version: 1.7.3 Command: /home/rapidbuild/bbs-3.21-bioc-rapid/R/bin/R CMD build --keep-empty-dirs --no-resave-data S4Arrays StartedAt: 2025-02-14 13:17:38 -0500 (Fri, 14 Feb 2025) EndedAt: 2025-02-14 13:17:55 -0500 (Fri, 14 Feb 2025) EllapsedTime: 16.3 seconds RetCode: 0 Status: OK PackageFile: S4Arrays_1.7.3.tar.gz PackageFileSize: 287.2 KiB