Package: Rsamtools Version: 2.23.1 Command: /home/rapidbuild/bbs-3.21-bioc-rapid/R/bin/R CMD build --keep-empty-dirs --no-resave-data Rsamtools StartedAt: 2025-02-18 07:33:43 -0500 (Tue, 18 Feb 2025) EndedAt: 2025-02-18 07:34:46 -0500 (Tue, 18 Feb 2025) EllapsedTime: 63.0 seconds RetCode: 0 Status: OK PackageFile: Rsamtools_2.23.1.tar.gz PackageFileSize: 2.783 MiB