Package: Rgraphviz Version: 2.51.0 Command: /home/rapidbuild/bbs-3.21-bioc-rapid/R/bin/R CMD build --keep-empty-dirs --no-resave-data Rgraphviz StartedAt: 2025-02-18 07:30:36 -0500 (Tue, 18 Feb 2025) EndedAt: 2025-02-18 07:32:36 -0500 (Tue, 18 Feb 2025) EllapsedTime: 120.3 seconds RetCode: 0 Status: OK PackageFile: Rgraphviz_2.51.0.tar.gz PackageFileSize: 7.341 MiB