Package: ResidualMatrix Version: 1.17.0 Command: /home/rapidbuild/bbs-3.21-bioc-rapid/R/bin/R CMD INSTALL ResidualMatrix StartedAt: 2025-02-21 12:13:46 -0500 (Fri, 21 Feb 2025) EndedAt: 2025-02-21 12:14:02 -0500 (Fri, 21 Feb 2025) EllapsedTime: 16.0 seconds RetCode: 0 Status: OK