Package: ReportingTools Version: 2.47.0 Command: /home/rapidbuild/bbs-3.21-bioc-rapid/R/bin/R CMD INSTALL ReportingTools StartedAt: 2025-02-20 12:26:41 -0500 (Thu, 20 Feb 2025) EndedAt: 2025-02-20 12:27:43 -0500 (Thu, 20 Feb 2025) EllapsedTime: 61.8 seconds RetCode: 0 Status: OK