Package: Rdisop Version: 1.67.5 Command: /home/rapidbuild/bbs-3.21-bioc-rapid/R/bin/R CMD check --install=check:Rdisop.install-out.txt --library=/home/rapidbuild/bbs-3.21-bioc-rapid/R/site-library --timings Rdisop_1.67.5.tar.gz StartedAt: 2025-02-20 15:00:24 -0500 (Thu, 20 Feb 2025) EndedAt: 2025-02-20 15:00:42 -0500 (Thu, 20 Feb 2025) EllapsedTime: 18.3 seconds RetCode: 0 Status: WARNINGS CheckDir: Rdisop.Rcheck Warnings: 1