Package: Rdisop Version: 1.67.5 Command: /home/rapidbuild/bbs-3.21-bioc-rapid/R/bin/R CMD build --keep-empty-dirs --no-resave-data Rdisop StartedAt: 2025-02-20 13:16:26 -0500 (Thu, 20 Feb 2025) EndedAt: 2025-02-20 13:16:58 -0500 (Thu, 20 Feb 2025) EllapsedTime: 32.0 seconds RetCode: 0 Status: OK PackageFile: Rdisop_1.67.5.tar.gz PackageFileSize: 712.8 KiB