Package: Rdisop Version: 1.67.5 Maintainer: Steffen Neumann MaintainerEmail: sneumann at ipb-halle.de git_url: https://git.bioconductor.org/packages/Rdisop git_branch: devel git_last_commit: e5e778d git_last_commit_date: 2025-02-14 03:45:50 -0500 (Fri, 14 Feb 2025)